BEGIN:VCALENDAR
VERSION:2.0
PRODID:-//ChamberMaster//Event Calendar 2.0//EN
METHOD:PUBLISH
X-PUBLISHED-TTL:P3D
REFRESH-INTERVAL:P3D
CALSCALE:GREGORIAN
BEGIN:VEVENT
DTSTART:20220211T140000Z
DTEND:20220212T000000Z
X-MICROSOFT-CDO-ALLDAYEVENT:FALSE
SUMMARY:Boss Up! Seminar
DESCRIPTION:Boss Up is a 1-day business breakthrough event led by New Orleans-based strategic business coach Mary Jane Walsh and designed specifically to help you reach your big goals for 2022. You will: - Gain clarity on your strategic plan for growth. - Master tools to build your confidence and executive presence. - Identify and release the beliefs that are holding you back. - Uplevel your business network and create very strong connections. - Move away from overwhelm and lead with passion and confidence you need to unlock a bigger version of yourself and your business. A dynamic day of interactive sessions\, including individual exercises and breakout sessions\, ensures you take an active role in your own growth\, so you leave with a strategic plan for your transformation and the renewed motivation and commitment to take action right away. Boss Up is truly a one-of-a-kind\, transformational experience\, and it all starts with committing to yourself. Join us\, and get ready to Boss Up. __________ Tickets can be purchased here: https://www.eventbrite.com/e/boss-up-seminar-tickets-200987598317 Coffee service and lunch will be provided. Light happy hour refreshments will be served at the close of the event. Further details will be emailed to you as the event nears\, with information about logistics such as parking\, lunch options\, and supplemental material. __________ Sponsorship opportunities are available! If you or your company are interested in sponsoring\, please contact julia@maryjanewalshthrive.com to find out more about the many exciting benefits sponsors will enjoy.
X-ALT-DESC;FMTTYPE=text/html:Boss Up is a 1-day business breakthrough event led by New Orleans-based strategic business coach Mary Jane Walsh and designed specifically to help you reach your big goals for 2022. You will: - Gain clarity on your strategic plan for growth. - Master tools to build your confidence and executive presence. - Identify and release the beliefs that are holding you back. - Uplevel your business network and create very strong connections. - Move away from overwhelm and lead with passion and confidence you need to unlock a bigger version of yourself and your business. A dynamic day of interactive sessions\, including individual exercises and breakout sessions\, ensures you take an active role in your own growth\, so you leave with a strategic plan for your transformation and the renewed motivation and commitment to take action right away. Boss Up is truly a one-of-a-kind\, transformational experience\, and it all starts with committing to yourself. Join us\, and get ready to Boss Up. __________ Tickets can be purchased here: https://www.eventbrite.com/e/boss-up-seminar-tickets-200987598317 Coffee service and lunch will be provided. Light happy hour refreshments will be served at the close of the event. Further details will be emailed to you as the event nears\, with information about logistics such as parking\, lunch options\, and supplemental material. __________ Sponsorship opportunities are available! If you or your company are interested in sponsoring\, please contact julia@maryjanewalshthrive.com to find out more about the many exciting benefits sponsors will enjoy.
LOCATION:The International House Hotel 221 Camp Street New Orleans LA 70130
UID:e.48.23424
SEQUENCE:3
DTSTAMP:20260421T083806Z
URL:https://public.jeffersonchamber.org/events/details/boss-up-seminar-23424
END:VEVENT

END:VCALENDAR
