BEGIN:VCALENDAR
VERSION:2.0
PRODID:-//ChamberMaster//Event Calendar 2.0//EN
METHOD:PUBLISH
X-PUBLISHED-TTL:P3D
REFRESH-INTERVAL:P3D
CALSCALE:GREGORIAN
BEGIN:VEVENT
DTSTART:20260519T133000Z
DTEND:20260519T143000Z
X-MICROSOFT-CDO-ALLDAYEVENT:FALSE
SUMMARY:Chamber Kickstart
DESCRIPTION:New member of the Jefferson Chamber?  Please join our team for Chamber Kickstart\, which is an intro to the Jefferson Chamber presentation.  Learn how to maximize your membership! One representative per company preferred\, as this event is limited to 25 attendees.\n\n\n\nComplimentary coffee will be provided.
X-ALT-DESC;FMTTYPE=text/html:New member of the Jefferson Chamber?&nbsp\; Please join our team for Chamber Kickstart\, which is an intro to the Jefferson Chamber presentation.&nbsp\; Learn how to maximize your membership! One representative per company preferred\, as this event is limited to 25 attendees.<br />\n<br />\nComplimentary coffee will be provided.<br />\n<br />\n<br />\n&nbsp\;
LOCATION:Jefferson Chamber of Commerce 3421 N. Causeway Blvd.\, Ste. 203 Metairie\, LA 70002
UID:e.48.27902
SEQUENCE:3
DTSTAMP:20260422T010321Z
URL:https://public.jeffersonchamber.org/events/details/chamber-kickstart-27902
END:VEVENT

END:VCALENDAR
