BEGIN:VCALENDAR
VERSION:2.0
PRODID:-//ChamberMaster//Event Calendar 2.0//EN
METHOD:PUBLISH
X-PUBLISHED-TTL:P3D
REFRESH-INTERVAL:P3D
CALSCALE:GREGORIAN
BEGIN:VEVENT
DTSTART:20260408T133000Z
DTEND:20260408T143000Z
X-MICROSOFT-CDO-ALLDAYEVENT:FALSE
SUMMARY:Education & Workforce Development Committee Meeting
DESCRIPTION:The Education and Workforce Development Committee works to strengthen the future workforce by actively engaging with the local education system. Its mission is to promote a collaborative\, strategic approach from early childhood through career development\, helping build a sustainable and well-prepared talent pipeline for Jefferson Parish. The committee focuses on connecting early childhood education\, K 12 schools\, postsecondary institutions\, workforce training programs\, and industry to ensure alignment and opportunity at every stage.\n\n\n\nChair: Rachael Jeanfreau\, Breazeale\, Sachse & Wilson\, LLP\n\nStaff: Amanda Hoerner\, amandah@jeffersonchamber.org
X-ALT-DESC;FMTTYPE=text/html:<span style="font-size:14px\;"><span style="font-family:arial\;">The Education and Workforce Development Committee works to strengthen the future workforce by actively engaging with the local education system. Its mission is to promote a collaborative\, strategic approach from early childhood through career development\, helping build a sustainable and well-prepared talent pipeline for Jefferson Parish. The committee focuses on connecting early childhood education\, K&ndash\;12 schools\, postsecondary institutions\, workforce training programs\, and industry to ensure alignment and opportunity at every stage.<br />\n<br />\n<strong>Chair:</strong> Rachael Jeanfreau\, Breazeale\, Sachse &amp\; Wilson\, LLP<br />\n<strong>Staff:</strong> Amanda Hoerner\, <a href="mailto:amandah@jeffersonchamber.org">amandah@jeffersonchamber.org</a></span></span><br />\n&nbsp\;
LOCATION:Jefferson Chamber of Commerce 3421 N. Causeway Blvd.\, Ste. 203 Metairie\, LA 70002
UID:e.48.27631
SEQUENCE:3
DTSTAMP:20260422T011248Z
URL:https://public.jeffersonchamber.org/events/details/education-workforce-development-committee-meeting-04-08-2026-27631
END:VEVENT

END:VCALENDAR
