BEGIN:VCALENDAR
VERSION:2.0
PRODID:-//ChamberMaster//Event Calendar 2.0//EN
METHOD:PUBLISH
X-PUBLISHED-TTL:P3D
REFRESH-INTERVAL:P3D
CALSCALE:GREGORIAN
BEGIN:VEVENT
DTSTART:20270512T133000Z
DTEND:20270512T143000Z
X-MICROSOFT-CDO-ALLDAYEVENT:FALSE
SUMMARY:Education & Workforce Development Committee Meeting
DESCRIPTION:Chair: Dr. Kevin Guitterrez\, Discovery Schools\n\n\n\nWe are looking forward to hosting the next Education and Workforce Development Committee meeting at our office on April 9th at 8:30 AM. The Education and Workforce Development Committee will follow up on the visit to Delgado's Ochsner Center for Nursing and Allied Health.  The panel discussion will feature the following experts from both Delgado and Ochsner Health\, where we will discuss both opportunities and areas for growth in the healthcare sector.  \n\n \n\n	Barbara Waiters\, Chief Communications\, IA and Strategic Initiatives Officer   bwaite@dcc.edu\n	Jennifer Fernandez\, Dean of Nursing - jferna@dcc.edu \n	Harold Gaspard\, Associate Vice Chancellor for Academic Affairs /Dean\, Allied Health   hgaspa@dcc.edu \n	Francesca Langlow\, Professor\, Allied Health   fmorel@dcc.edu \n	Susan Salomone\, Assistant Vice President\, Workforce Development and Career Services\, Ochsner Health - susan.salomone@ochsner.org
X-ALT-DESC;FMTTYPE=text/html:Chair: Dr. Kevin Guitterrez\, Discovery Schools<br />\n<br />\n<span style="font-size:11.0pt\;">We are looking forward to hosting the next Education and Workforce Development Committee meeting at our office on April 9<sup>th</sup> at 8:30 AM. The Education and Workforce Development Committee will follow up on the visit to Delgado&#39\;s Ochsner Center for Nursing and Allied Health.&nbsp\; The panel discussion will feature the following experts from both Delgado and Ochsner Health\, where we will discuss both opportunities and areas for growth in the healthcare sector.&nbsp\;&nbsp\;</span><br />\n&nbsp\;\n<ul>\n	<li><span style="font-size:11.0pt\;">Barbara Waiters\, Chief Communications\, IA and Strategic Initiatives Officer &ndash\; <a href="mailto:bwaite@dcc.edu" target="_blank">bwaite@dcc.edu</a></span></li>\n	<li><span style="font-size:11.0pt\;">Jennifer Fernandez\, Dean of Nursing - <a href="mailto:jferna@dcc.edu" target="_blank">jferna@dcc.edu</a> </span></li>\n	<li><span style="font-size:11.0pt\;">Harold Gaspard\, Associate Vice Chancellor for Academic Affairs /Dean\, Allied Health &ndash\; <a href="mailto:hgaspa@dcc.edu" target="_blank">hgaspa@dcc.edu</a> </span></li>\n	<li><span style="font-size:11.0pt\;">Francesca Langlow\, Professor\, Allied Health &ndash\; <a href="mailto:fmorel@dcc.edu" target="_blank">fmorel@dcc.edu</a> </span></li>\n	<li><span style="font-size:11.0pt\;">Susan Salomone\, Assistant Vice President\, Workforce Development and Career Services\, Ochsner Health - <a href="mailto:susan.salomone@ochsner.org" target="_blank">susan.salomone@ochsner.org</a> </span></li>\n</ul>\n
LOCATION:Jefferson Chamber of Commerce 3421 N. Causeway Blvd.\, Ste. 203 Metairie\, LA 70002
UID:e.48.27155
SEQUENCE:3
DTSTAMP:20260422T220849Z
URL:https://public.jeffersonchamber.org/events/details/education-workforce-development-committee-meeting-05-12-2027-27155
END:VEVENT

END:VCALENDAR
