BEGIN:VCALENDAR
VERSION:2.0
PRODID:-//ChamberMaster//Event Calendar 2.0//EN
METHOD:PUBLISH
X-PUBLISHED-TTL:P3D
REFRESH-INTERVAL:P3D
CALSCALE:GREGORIAN
BEGIN:VEVENT
DTSTART:20260428T133000Z
DTEND:20260428T143000Z
X-MICROSOFT-CDO-ALLDAYEVENT:FALSE
SUMMARY:Governmental Affairs Committee Meeting
DESCRIPTION:Chair: Dr. Paula Polito\, Beary Cherry Tree
X-ALT-DESC;FMTTYPE=text/html:Chair: Dr. Paula Polito\, Beary Cherry Tree
LOCATION:Jefferson Chamber of Commerce 3421 N. Causeway Blvd.\, Ste. 203 Metairie\, LA 70002
UID:e.48.27272
SEQUENCE:3
DTSTAMP:20260421T084215Z
URL:https://public.jeffersonchamber.org/events/details/governmental-affairs-committee-meeting-04-28-2026-27272
END:VEVENT

END:VCALENDAR
