BEGIN:VCALENDAR
VERSION:2.0
PRODID:-//ChamberMaster//Event Calendar 2.0//EN
METHOD:PUBLISH
X-PUBLISHED-TTL:P3D
REFRESH-INTERVAL:P3D
CALSCALE:GREGORIAN
BEGIN:VEVENT
DTSTART:20260625T133000Z
DTEND:20260625T180000Z
X-MICROSOFT-CDO-ALLDAYEVENT:FALSE
SUMMARY:Jefferson Parish Senior Expo
DESCRIPTION:The 23rd Annual Jefferson Parish Senior Expo\, a free community event celebrating the vitality\, wisdom\, and contributions of older adults\, will take place on Thursday\, June 25\, 2026\, from 8:30 a.m. to 1:00 p.m. at the Alario Center in Westwego.\n\nDesigned to connect seniors with vital information\, services\, and resources that promote healthy aging and quality of life\, the Senior Expo welcomes more than 2\,000 participants each year. Attendees can explore exhibitor booths\, access community resources\, enjoy entertainment\, free lunch\, and connect with organizations dedicated to serving the senior community.\n\nThe 2026 Expo will feature a fun and festive "Retro Revival: 1950s Flashback" theme\, encouraging attendees and exhibitors alike to celebrate the era with themed decor\, music\, and activities. Exhibitors represent healthcare providers\, nonprofits\, government agencies\, financial services\, wellness organizations\, and other senior-focused businesses.
X-ALT-DESC;FMTTYPE=text/html:<span style="font-family:calibri\,sans-serif"><span style="font-size:12.0pt">The&nbsp\;<strong>23rd Annual Jefferson Parish Senior Expo</strong>\, a free community event celebrating the vitality\, wisdom\, and contributions of older adults\, will take place on <strong>Thursday\, June 25\, 2026\, from 8:30 a.m. to 1:00 p.m.</strong> at the Alario Center in Westwego.</span></span><br />\n<span style="font-family:calibri\,sans-serif"><span style="font-size:12.0pt">Designed to connect seniors with vital information\, services\, and resources that promote healthy aging and quality of life\, the Senior Expo welcomes more than <strong>2\,000 participants each year</strong>. Attendees can explore exhibitor booths\, access community resources\, enjoy entertainment\, free lunch\, and connect with organizations dedicated to serving the senior community.</span></span><br />\n<span style="font-family:calibri\,sans-serif"><span style="font-size:12.0pt">The 2026 Expo will feature a fun and festive <strong>&ldquo\;Retro Revival: 1950s Flashback&rdquo\;</strong> theme\, encouraging attendees and exhibitors alike to celebrate the era with themed decor\, music\, and activities. Exhibitors represent healthcare providers\, nonprofits\, government agencies\, financial services\, wellness organizations\, and other senior-focused businesses.</span></span>
LOCATION:Alario Center\, 2000 Segnette Boulevard\, Westwego\, LA 70094
UID:e.48.27642
SEQUENCE:3
DTSTAMP:20260422T025211Z
URL:https://public.jeffersonchamber.org/events/details/jefferson-parish-senior-expo-06-25-2026-27642
END:VEVENT

END:VCALENDAR
