BEGIN:VCALENDAR
VERSION:2.0
PRODID:-//ChamberMaster//Event Calendar 2.0//EN
METHOD:PUBLISH
X-PUBLISHED-TTL:P3D
REFRESH-INTERVAL:P3D
CALSCALE:GREGORIAN
BEGIN:VEVENT
DTSTART;VALUE=DATE:20191121
DTEND;VALUE=DATE:20191122
TRANSP:TRANSPARENT
X-MICROSOFT-CDO-ALLDAYEVENT:TRUE
SUMMARY:Martini Nights at Boulevard!
DESCRIPTION:Come see us at Boulevard American Bistro on Thursdays where we will be doing $5 Martini's all day!
X-ALT-DESC;FMTTYPE=text/html:Come see us at Boulevard American Bistro on Thursdays where we will be doing $5 Martini&#39\;s all day!&nbsp\;
LOCATION:4241 Veterans Memorial Boulevard\, Metairie\, LA 70006
UID:e.48.22104
SEQUENCE:3
DTSTAMP:20260424T090724Z
URL:https://public.jeffersonchamber.org/events/details/martini-nights-at-boulevard-11-21-2019-22104
END:VEVENT

END:VCALENDAR
