BEGIN:VCALENDAR
VERSION:2.0
PRODID:-//ChamberMaster//Event Calendar 2.0//EN
METHOD:PUBLISH
X-PUBLISHED-TTL:P3D
REFRESH-INTERVAL:P3D
CALSCALE:GREGORIAN
BEGIN:VEVENT
DTSTART:20240814T163000Z
DTEND:20240814T183000Z
X-MICROSOFT-CDO-ALLDAYEVENT:FALSE
SUMMARY:Mayoral Luncheon 2024
DESCRIPTION:Hear from Mayors in each municipality on the progress being made in their respective areas. Many businesses local to these regions attend to support their mayor and meet leaders from across the Parish.
X-ALT-DESC;FMTTYPE=text/html:<br />\n<span style="font-size:16px\;"><span style="font-family:arial\;"><span style="background:#FDFDFD\;"><span style="color:#3A3534\;">Hear from Mayors in each municipality on the progress being made in their respective areas.&nbsp\;<span style="border:none windowtext 1.0pt\;padding:0in\;"><span style="max-height:none\;min-height:initial\;box-sizing:content-box\;content:normal\;border-radius:0px\;box-shadow:none\;word-break:inherit\;font-variant-numeric:inherit\;word-wrap:inherit\;bottom:auto\;empty-cells:show\;outline-offset:0px\;font-stretch:inherit\;text-overflow:clip\;max-width:none\;resize:none\;opacity:1\;min-width:initial\;overflow:visible\;right:auto\;visibility:inherit\;z-index:auto\;">Many businesses local to these regions attend to support their mayor and meet&nbsp\;</span></span></span></span><span style="border:none windowtext 1.0pt\;padding:0in\;background:#FDFDFD\;"><span style="color:#3A3534\;"><span style="max-height:none\;min-height:initial\;box-sizing:content-box\;content:normal\;border-radius:0px\;box-shadow:none\;word-break:inherit\;font-variant-numeric:inherit\;word-wrap:inherit\;bottom:auto\;empty-cells:show\;outline-offset:0px\;font-stretch:inherit\;text-overflow:clip\;max-width:none\;resize:none\;opacity:1\;min-width:initial\;overflow:visible\;right:auto\;visibility:inherit\;z-index:auto\;">leaders from across the Parish.</span></span></span></span></span><br />\n&nbsp\;
LOCATION:Metairie Country Club 580 Woodvine Ave. Metairie\, LA 70005
UID:e.48.25212
SEQUENCE:3
DTSTAMP:20260420T080339Z
URL:https://public.jeffersonchamber.org/events/details/mayoral-luncheon-2024-25212
END:VEVENT

END:VCALENDAR
