BEGIN:VCALENDAR
VERSION:2.0
PRODID:-//ChamberMaster//Event Calendar 2.0//EN
METHOD:PUBLISH
X-PUBLISHED-TTL:P3D
REFRESH-INTERVAL:P3D
CALSCALE:GREGORIAN
BEGIN:VEVENT
DTSTART:20260410T230000Z
DTEND:20260411T030000Z
X-MICROSOFT-CDO-ALLDAYEVENT:FALSE
SUMMARY:New Orleans Heart Ball
DESCRIPTION:Join us as we take our efforts beyond the ballroom by driving change\, funding science and improving health outcomes for all. Together\, we are relentlessly focused on the heart of our community. Through the Heart of New Orleans Heart Ball campaign\, we celebrate our collective success in driving change\, funding science and improving health outcomes for everyone\, everywhere. That means taking our efforts beyond the ballroom\, working every day to help every heart.
X-ALT-DESC;FMTTYPE=text/html:Join us as we take our efforts beyond the ballroom by driving change\, funding science and improving health outcomes for all. Together\, we are relentlessly focused on the heart of our community. Through the Heart of New Orleans Heart Ball campaign\, we celebrate our collective success in driving change\, funding science and improving health outcomes for everyone\, everywhere. That means taking our efforts beyond the ballroom\, working every day to help every heart.
LOCATION:New Orleans Sheraton Hotel 500 Canal Street New Orleans\, LA 70130
UID:e.48.27645
SEQUENCE:3
DTSTAMP:20260421T234359Z
URL:https://public.jeffersonchamber.org/events/details/new-orleans-heart-ball-27645
END:VEVENT

END:VCALENDAR
