BEGIN:VCALENDAR
VERSION:2.0
PRODID:-//ChamberMaster//Event Calendar 2.0//EN
METHOD:PUBLISH
X-PUBLISHED-TTL:P3D
REFRESH-INTERVAL:P3D
CALSCALE:GREGORIAN
BEGIN:VEVENT
DTSTART:20260624T140000Z
DTEND:20260624T153000Z
X-MICROSOFT-CDO-ALLDAYEVENT:FALSE
SUMMARY:Prosper Jefferson: Emotional Intelligence in the Workplace
DESCRIPTION:Emotional intelligence plays a key role in how teams communicate\, collaborate\, and perform. This seminar will explore how understanding emotions\, both your own and others'\, can lead to stronger leadership and healthier workplace relationships. Attendees will gain tools to navigate challenges and foster a more positive work environment.
X-ALT-DESC;FMTTYPE=text/html:<span style="color: rgb(0\, 0\, 0)\; font-family: &quot\;Times New Roman&quot\;\; font-size: medium\;">Emotional intelligence plays a key role in how teams communicate\, collaborate\, and perform. This seminar will explore how understanding emotions\, both your own and others&rsquo\;\, can lead to stronger leadership and healthier workplace relationships. Attendees will gain tools to navigate challenges and foster a more positive work environment.</span>
LOCATION:700 Churchill Pkwy\, Westwego\, LA 70094
UID:e.48.27660
SEQUENCE:3
DTSTAMP:20260422T025053Z
URL:https://public.jeffersonchamber.org/events/details/prosper-jefferson-emotional-intelligence-in-the-workplace-27660
END:VEVENT

END:VCALENDAR
