BEGIN:VCALENDAR
VERSION:2.0
PRODID:-//ChamberMaster//Event Calendar 2.0//EN
METHOD:PUBLISH
X-PUBLISHED-TTL:P3D
REFRESH-INTERVAL:P3D
CALSCALE:GREGORIAN
BEGIN:VEVENT
DTSTART:20260403T133000Z
DTEND:20260403T233000Z
X-MICROSOFT-CDO-ALLDAYEVENT:FALSE
SUMMARY:The 2026 Bayou Regional FIRST Robotics Competition\, Presented by Entergy
DESCRIPTION:The Bayou Regional FIRST Robotics Competition brings together high school teams from Louisiana\, Mississippi\, and beyond for an exciting showcase of innovation\, teamwork\, and advanced technology. Students design\, build\, and compete with custom robots in a fast-paced\, arena-style event.\n\n?? Dates: April 1 4\, 2026\n\n?? Location: Pontchartrain Center\, Kenner\, LA\n\n?? Public Competition Days: April 3 4\n\nThis regional event highlights the connection between education and industry\, offering local businesses a unique opportunity to engage with future talent. Company representatives and employee volunteers are welcome to participate in a variety of event roles.\n\n \n\nCHAMBER MEMBERS!  RSVP for the ? VIP Experience: www.frcla-ms.org/vip-experience\n\nExperience the energy\, creativity\, and collaboration that define FIRST Robotics Competition.
X-ALT-DESC;FMTTYPE=text/html:<p>The Bayou Regional FIRST Robotics Competition brings together high school teams from Louisiana\, Mississippi\, and beyond for an exciting showcase of innovation\, teamwork\, and advanced technology. Students design\, build\, and compete with custom robots in a fast-paced\, arena-style event.</p>\n\n<p>?? <strong>Dates:</strong> April 1&ndash\;4\, 2026<br />\n?? <strong>Location:</strong> Pontchartrain Center\, Kenner\, LA<br />\n?? <strong>Public Competition Days:</strong> April 3&ndash\;4</p>\n\n<p>This regional event highlights the connection between education and industry\, offering local businesses a unique opportunity to engage with future talent. Company representatives and employee volunteers are welcome to participate in a variety of event roles.<br />\n&nbsp\;</p>\n\n<p>CHAMBER MEMBERS!&nbsp\; RSVP for the ? <strong>VIP Experience:</strong> <a class="decorated-link" href="http://www.frcla-ms.org/vip-experience" rel="noopener" target="_new">www.frcla-ms.org/vip-experience</a></p>\n\n<p>Experience the energy\, creativity\, and collaboration that define FIRST Robotics Competition.</p>\n
LOCATION:The Pontchartrain Center 4545 Williams Blvd\, Kenner
UID:e.48.27786
SEQUENCE:3
DTSTAMP:20260422T011546Z
URL:https://public.jeffersonchamber.org/events/details/the-2026-bayou-regional-first-robotics-competition-presented-by-entergy-27786
END:VEVENT

END:VCALENDAR
