BEGIN:VCALENDAR
VERSION:2.0
PRODID:-//ChamberMaster//Event Calendar 2.0//EN
METHOD:PUBLISH
X-PUBLISHED-TTL:P3D
REFRESH-INTERVAL:P3D
CALSCALE:GREGORIAN
BEGIN:VEVENT
DTSTART:20260616T133000Z
DTEND:20260616T153000Z
X-MICROSOFT-CDO-ALLDAYEVENT:FALSE
SUMMARY:United Way of Southeast Louisiana's 2026 Annual Meeting & United Awards
DESCRIPTION:Join us Tuesday\, June 16\, 2026 at the Hilton New Orleans Riverside\, as we celebrate the incredible generosity of our corporate partners\, honor our top volunteers\, and introduce the new faces leading our board and campaign efforts.
X-ALT-DESC;FMTTYPE=text/html:<span style="color:rgb(33\, 41\, 106)\; font-family:palanquin\; font-size:33px">Join us Tuesday\, June 16\, 2026 at the Hilton New Orleans Riverside\,&nbsp\;</span><span style="color:rgb(33\, 41\, 106)\; font-family:palanquin\; font-size:33px">as we celebrate the incredible generosity of our corporate partners\, honor our top&nbsp\;</span><span style="color:rgb(33\, 41\, 106)\; font-family:palanquin\; font-size:33px">volunteers\, and introduce the new faces leading our board and campaign efforts.</span>
LOCATION:Hilton New Orleans Riverside St. Charles Ballroom - 3rd Floor Two Poydras St. New Orleans\, LA 70130
UID:e.48.27901
SEQUENCE:3
DTSTAMP:20260422T024446Z
URL:https://public.jeffersonchamber.org/events/details/united-way-of-southeast-louisiana-s-2026-annual-meeting-united-awards-27901
END:VEVENT

END:VCALENDAR
