BEGIN:VCALENDAR
VERSION:2.0
PRODID:-//ChamberMaster//Event Calendar 2.0//EN
METHOD:PUBLISH
X-PUBLISHED-TTL:P3D
REFRESH-INTERVAL:P3D
CALSCALE:GREGORIAN
BEGIN:VEVENT
DTSTART:20260508T130000Z
DTEND:20260509T010000Z
X-MICROSOFT-CDO-ALLDAYEVENT:FALSE
SUMMARY:Volunteer with Greening NOLA Campus Move Out
DESCRIPTION:Greening NOLA Campus Move Out is an initiative in collaboration with STEM Library Lab\, Tulane's Office of Sustainability\, TU's Trash to Treasure\, and Loyola University to divert the thousands of pounds of waste produced every year by students vacating their residence halls. It is estimated that last year only 11% of student waste (35\,000 pounds) was diverted from the landfill. We aim to double that collection intake in 2026 with your help!\n\n\n\nThe Solution: You! We need Volunteer Teams to help intercept\, sort\, and redistribute these goods to our New Orleans neighbors in need. This involves stationing outside dorm halls\, loading trucks with donations\, and sorting items at donation hubs.\n\n\n\nThe Ask: The first step is Sign up to Volunteer Here!\n\nThe second step...We are looking for philanthropic individuals to recruit and organize a team from their network. Motivate your office\, krewe\, or social club! Your team can register individually through the link above or Team Leaders can commit multiple people per shift.\n\n\n\nWho You Are Helping: Over 20 Community Partners have signed on to accept diverse categories of donations\, benefitting underfunded and disenfranchised groups such as teachers\, women and children's shelters\, recovery houses\, food banks\, seniors\, the unhoused\, and animal shelters.\n\n\n\nNext Steps: Get recruiting! When all the sorting is done\, STEM Library Lab will host an after party celebration at our offices. Teams contributing the most volunteer hours will receive special social media and marketing placement through STEM Library Lab\, Tulane University\, and Loyola University.
X-ALT-DESC;FMTTYPE=text/html:<span style="font-size:16px"><strong>Greening NOLA Campus Move Out</strong><span style="font-family:arial\,helvetica\,sans-serif">&nbsp\;is an initiative in collaboration with&nbsp\;</span><strong><a href="http://stemlibrarylab.org/" style="color: rgb(0\, 47\, 96)\; background-image: unset\; background-position: unset\; background-size: unset\; background-repeat: unset\; background-attachment: initial\; background-origin: initial\; background-clip: initial\; background-color: transparent\; cursor: pointer\; text-decoration-line: none\; white-space: initial\; text-underline-offset: 0.2em\; text-decoration-skip-ink: auto\; overflow-wrap: break-word\; box-sizing: border-box\;">STEM Library Lab</a><a href="http://stemlibrarylab.org">\,</a>&nbsp\;Tulane&#39\;s Office of Sustainability\, TU&#39\;s Trash to Treasure\,</strong><span style="font-family:arial\,helvetica\,sans-serif">&nbsp\;and</span><strong>&nbsp\;Loyola University&nbsp\;</strong><span style="font-family:arial\,helvetica\,sans-serif">to divert the thousands of pounds of waste produced&nbsp\;</span><u><em>every year</em></u><span style="font-family:arial\,helvetica\,sans-serif">&nbsp\;by students vacating their residence halls. It is estimated that last year only 11% of student waste (35\,000 pounds) was diverted from the landfill. We aim to double that collection intake in 2026 with your help!</span></span><br />\n<br />\n<span style="font-size:16px"><strong>The Solution:<em>&nbsp\;</em></strong><em>You!</em></span><span style="font-family:arial\,helvetica\,sans-serif\; font-size:16px">&nbsp\;We need Volunteer Teams to help intercept\, sort\, and redistribute these goods to our New Orleans neighbors in need. This involves stationing outside dorm halls\, loading trucks with donations\, and sorting items at donation hubs.</span><br />\n<br />\n<span style="font-size:16px"><strong>The Ask:&nbsp\;</strong></span><span style="font-family:arial\,helvetica\,sans-serif\; font-size:18px">The first step is<strong>&nbsp\;<a href="https://www.signupgenius.com/go/70A0D4DAEAE2FA0F94-63311657-greening#/">Sign up to Volunteer Here!</a></strong></span><br />\n<span style="font-family:arial\,helvetica\,sans-serif\; font-size:16px">The second step...We are looking for philanthropic individuals to recruit and organize a team from their network. Motivate your office\, krewe\, or social club! Your team can register individually through the link above or Team Leaders can commit multiple people per shift.</span><br />\n<br />\n<span style="font-size:16px"><strong>Who You Are Helping:&nbsp\;</strong></span><span style="font-family:arial\,helvetica\,sans-serif\; font-size:16px">Over 20 Community Partners have signed on to accept diverse categories of donations\, benefitting underfunded and disenfranchised groups such as teachers\, women and children&#39\;s shelters\, recovery houses\, food banks\, seniors\, the unhoused\, and animal shelters.</span><br />\n<br />\n<span style="font-size:16px"><strong>Next Steps:&nbsp\;</strong></span><span style="font-family:arial\,helvetica\,sans-serif\; font-size:16px">Get recruiting! When all the sorting is done\, STEM Library Lab will host an after party celebration at our offices. Teams contributing the most volunteer hours will receive special social media and marketing placement through STEM Library Lab\, Tulane University\, and Loyola University.</span>
LOCATION:May 4-8th: West Rd. Parking Garage (Loyola Campus) West Rd.\, New Orleans\, LA 70118 May 11-15th: John Dibert Community School (Mid-City/City Park area) 4217 Orleans Ave.\, New Orleans\, LA 70119
UID:e.48.27888
SEQUENCE:3
DTSTAMP:20260422T010711Z
URL:https://public.jeffersonchamber.org/events/details/volunteer-with-greening-nola-campus-move-out-05-08-2026-27888
END:VEVENT

END:VCALENDAR
